BEGIN:VCALENDAR
VERSION:2.0
PRODID:-//ChamberMaster//Event Calendar 2.0//EN
METHOD:PUBLISH
X-PUBLISHED-TTL:P3D
REFRESH-INTERVAL:P3D
CALSCALE:GREGORIAN
BEGIN:VEVENT
DTSTART:20061019T140000Z
DTEND:20061019T140000Z
X-MICROSOFT-CDO-ALLDAYEVENT:FALSE
SUMMARY:Brown County Bus Trip
DESCRIPTION:
X-ALT-DESC;FMTTYPE=text/html:
LOCATION:111 Eastern Avenue\, Brownsburg\, IN 46112 Leaves from the Brownsburg Community and Rec Center\; 111 Eastern Ave at 10am. Take a scenic tour to Brown County and view the beautiful landscape and the mesmorizing colors that make the area one of the most popular areas to visit in the fall. You will also have the opportunity to have a wonderful lunch at the Abe Martin Lodge. Cos is $12 and includes lunch. Contact the Parks Department to reserve your spot today--858-4172.
UID:e.2778.334
SEQUENCE:3
DTSTAMP:20260424T084759Z
URL:https://www.brownsburg.com/events/details/brown-county-bus-trip-10-19-2006-334
END:VEVENT

END:VCALENDAR
