BEGIN:VCALENDAR
VERSION:2.0
PRODID:-//ChamberMaster//Event Calendar 2.0//EN
METHOD:PUBLISH
X-PUBLISHED-TTL:P3D
REFRESH-INTERVAL:P3D
CALSCALE:GREGORIAN
BEGIN:VEVENT
DTSTART;VALUE=DATE:20061023
DTEND;VALUE=DATE:20061024
TRANSP:TRANSPARENT
X-MICROSOFT-CDO-ALLDAYEVENT:TRUE
SUMMARY:Brownsburg Advisory Plan Commission Meeting
DESCRIPTION:
X-ALT-DESC;FMTTYPE=text/html:
LOCATION:470 East Northfield Drive\, Brownsburg\, IN 46112 at the Fire Territory Bldg\; 470 E. Northfield Dr.
UID:e.2778.243
SEQUENCE:3
DTSTAMP:20260424T084846Z
URL:https://www.brownsburg.com/events/details/brownsburg-advisory-plan-commission-meeting-10-23-2006-243
END:VEVENT

END:VCALENDAR
