BEGIN:VCALENDAR
VERSION:2.0
PRODID:-//ChamberMaster//Event Calendar 2.0//EN
METHOD:PUBLISH
X-PUBLISHED-TTL:P3D
REFRESH-INTERVAL:P3D
CALSCALE:GREGORIAN
BEGIN:VEVENT
DTSTART:20061102T230000Z
DTEND:20061102T230000Z
X-MICROSOFT-CDO-ALLDAYEVENT:FALSE
SUMMARY:Brownsburg Bake Off
DESCRIPTION:
X-ALT-DESC;FMTTYPE=text/html:
LOCATION:111 Eastern Avenue\, Brownsburg\, IN 46112 at the Community and Rec Center\; 111 Eastern Avenue. Do you want to be able to brag at Thanksgiving dinner that you have the best dessert in Brownsburg? Do youhave a dessert that everyone loves? Bring it in and have it put to the test inour annual bake off. Fee is $1 and goes to fund the prize. Contact the BPRD for more information--858-4172.
UID:e.2778.331
SEQUENCE:3
DTSTAMP:20260424T072711Z
URL:https://www.brownsburg.com/events/details/brownsburg-bake-off-11-02-2006-331
END:VEVENT

END:VCALENDAR
