BEGIN:VCALENDAR
VERSION:2.0
PRODID:-//ChamberMaster//Event Calendar 2.0//EN
METHOD:PUBLISH
X-PUBLISHED-TTL:P3D
REFRESH-INTERVAL:P3D
CALSCALE:GREGORIAN
BEGIN:VEVENT
DTSTART:20070321T150000Z
DTEND:20070321T150000Z
X-MICROSOFT-CDO-ALLDAYEVENT:FALSE
SUMMARY:Brownsburg Chamber of Commerce Annual Luncheon
DESCRIPTION:Brownsburg Chamber of Commerce Annual Luncheon \nThe speaker Todd Rokita\, Indiana's Secretary of State\nPlease RSVP to 852-7885\n$20.00 per person
X-ALT-DESC;FMTTYPE=text/html:Brownsburg Chamber of Commerce Annual Luncheon \nThe speaker Todd Rokita\, Indiana's Secretary of State\nPlease RSVP to 852-7885\n$20.00 per person
LOCATION:470 E. Northfield Drive\, Brownsburg\, IN 46112
UID:e.2778.429
SEQUENCE:3
DTSTAMP:20260424T014559Z
URL:https://www.brownsburg.com/events/details/brownsburg-chamber-of-commerce-annual-luncheon-03-21-2007-429
END:VEVENT

END:VCALENDAR
