BEGIN:VCALENDAR
VERSION:2.0
PRODID:-//ChamberMaster//Event Calendar 2.0//EN
METHOD:PUBLISH
X-PUBLISHED-TTL:P3D
REFRESH-INTERVAL:P3D
CALSCALE:GREGORIAN
BEGIN:VEVENT
DTSTART:20081203T161500Z
DTEND:20081203T161500Z
X-MICROSOFT-CDO-ALLDAYEVENT:FALSE
SUMMARY:Brownsburg Chamber of Commerce Annual Luncheon
DESCRIPTION:
X-ALT-DESC;FMTTYPE=text/html:
LOCATION:Fire Territory Building 470 E. Northfield Street\, Brownsburg \, IN 46112 Fire Territory Building\, 470 East Norfield Dr. Preformance by the Brownburg High School\, Madrigal Singers Choir. RSVP 852-7885 or chamber@brownsburg.com Cost $10 per person.
UID:e.2778.612
SEQUENCE:3
DTSTAMP:20260422T204823Z
URL:https://www.brownsburg.com/events/details/brownsburg-chamber-of-commerce-annual-luncheon-12-03-2008-612
END:VEVENT

END:VCALENDAR
