BEGIN:VCALENDAR
VERSION:2.0
PRODID:-//ChamberMaster//Event Calendar 2.0//EN
METHOD:PUBLISH
X-PUBLISHED-TTL:P3D
REFRESH-INTERVAL:P3D
CALSCALE:GREGORIAN
BEGIN:VEVENT
DTSTART:20070418T153000Z
DTEND:20070418T153000Z
X-MICROSOFT-CDO-ALLDAYEVENT:FALSE
SUMMARY:Brownsburg Chamber of Commerce April 18th Luncheon
DESCRIPTION:Brownsburg Chamber of Commerce Luncheon\nSpeakers will be Marina Keers from Sheltering Wings \nFire Territory will be presenting certificates of appreciation to the sponsors for the donations with the smoke trailer.\nScott Black will speak about the up coming events for the Chamber of Commerce.  Dinner and Auction & Derby Race on May 12th at 6:30pm at Bill Estes in Brownsburg.
X-ALT-DESC;FMTTYPE=text/html:Brownsburg Chamber of Commerce Luncheon\nSpeakers will be Marina Keers from Sheltering Wings \nFire Territory will be presenting certificates of appreciation to the sponsors for the donations with the smoke trailer.\nScott Black will speak about the up coming events for the Chamber of Commerce.  Dinner and Auction & Derby Race on May 12th at 6:30pm at Bill Estes in Brownsburg.
LOCATION:470 E. Nnorthfield Drive\, Brownsburg\, IN 46112
UID:e.2778.437
SEQUENCE:3
DTSTAMP:20260424T002206Z
URL:https://www.brownsburg.com/events/details/brownsburg-chamber-of-commerce-april-18th-luncheon-04-18-2007-437
END:VEVENT

END:VCALENDAR
