BEGIN:VCALENDAR
VERSION:2.0
PRODID:-//ChamberMaster//Event Calendar 2.0//EN
METHOD:PUBLISH
X-PUBLISHED-TTL:P3D
REFRESH-INTERVAL:P3D
CALSCALE:GREGORIAN
BEGIN:VEVENT
DTSTART:20080510T223000Z
DTEND:20080510T223000Z
X-MICROSOFT-CDO-ALLDAYEVENT:FALSE
SUMMARY:Brownsburg Chamber of Commerce Auction\, Great Food and Racing event
DESCRIPTION:Tickets are $25.00 per person payable in advance or at door. Cash bar.  Please visit our website for more information!  You can register online for this event.  Your registration will not be valid until payment is received.
X-ALT-DESC;FMTTYPE=text/html:Tickets are $25.00 per person payable in advance or at door. Cash bar.  Please visit our website for more information!  You can register online for this event.  Your registration will not be valid until payment is received.
LOCATION:450 East Northfield Drive\, Brownsburg\, IN 46112 Hosted at Bill Estes Ford\, Brownsburg.
UID:e.2778.518
SEQUENCE:3
DTSTAMP:20260423T055610Z
URL:https://www.brownsburg.com/events/details/brownsburg-chamber-of-commerce-auction-great-food-and-racing-event-05-10-2008-518
END:VEVENT

END:VCALENDAR
