BEGIN:VCALENDAR
VERSION:2.0
PRODID:-//ChamberMaster//Event Calendar 2.0//EN
METHOD:PUBLISH
X-PUBLISHED-TTL:P3D
REFRESH-INTERVAL:P3D
CALSCALE:GREGORIAN
BEGIN:VEVENT
DTSTART:20070815T153000Z
DTEND:20070815T153000Z
X-MICROSOFT-CDO-ALLDAYEVENT:FALSE
SUMMARY:Brownsburg Chamber of Commerce AUGUST Luncheon
DESCRIPTION:
X-ALT-DESC;FMTTYPE=text/html:
LOCATION:Fire Territory Building\, Brownsburg\, IN 46112 Fire Territory Building 470 E. Northfield Drive Brownburg\, IN 46112
UID:e.2778.458
SEQUENCE:3
DTSTAMP:20260423T195808Z
URL:https://www.brownsburg.com/events/details/brownsburg-chamber-of-commerce-august-luncheon-08-15-2007-458
END:VEVENT

END:VCALENDAR
