BEGIN:VCALENDAR
VERSION:2.0
PRODID:-//ChamberMaster//Event Calendar 2.0//EN
METHOD:PUBLISH
X-PUBLISHED-TTL:P3D
REFRESH-INTERVAL:P3D
CALSCALE:GREGORIAN
BEGIN:VEVENT
DTSTART:20071101T113000Z
DTEND:20071101T113000Z
X-MICROSOFT-CDO-ALLDAYEVENT:FALSE
SUMMARY:Brownsburg Chamber of Commerce Board Meeting
DESCRIPTION:
X-ALT-DESC;FMTTYPE=text/html:
LOCATION:
UID:e.2778.466
SEQUENCE:3
DTSTAMP:20260423T134834Z
URL:https://www.brownsburg.com/events/details/brownsburg-chamber-of-commerce-board-meeting-11-01-2007-466
END:VEVENT

END:VCALENDAR
