BEGIN:VCALENDAR
VERSION:2.0
PRODID:-//ChamberMaster//Event Calendar 2.0//EN
METHOD:PUBLISH
X-PUBLISHED-TTL:P3D
REFRESH-INTERVAL:P3D
CALSCALE:GREGORIAN
BEGIN:VEVENT
DTSTART:20070512T223000Z
DTEND:20070512T223000Z
X-MICROSOFT-CDO-ALLDAYEVENT:FALSE
SUMMARY:BROWNSBURG CHAMBER OF COMMERCE Dinner/Auctoin & Race
DESCRIPTION:Brownsburg Chamber of Commerce 1st annual Dinner/Auction & Race @ Bill Estes Ford.  Come join us for a evening of good food\, racing & fun.  Cost is $25per person\,cash bar\, Free car.  Admission\, Dinner & Soft drinks are included.  Enter a Derby Car on behalf of your company.(one car per company)  Please donate items for our Auction by May 1st.  This is our annual fundraiser for 2007.  Wear your favorite Racing Gear\, bring your friends.  Showcase your company\, group or organization.  Pole day qualifying ends at 6:00pm @ IMS.  We start at 6:30.  Yes\, we are looking for additional sponors.
X-ALT-DESC;FMTTYPE=text/html:Brownsburg Chamber of Commerce 1st annual Dinner/Auction & Race @ Bill Estes Ford.  Come join us for a evening of good food\, racing & fun.  Cost is $25per person\,cash bar\, Free car.  Admission\, Dinner & Soft drinks are included.  Enter a Derby Car on behalf of your company.(one car per company)  Please donate items for our Auction by May 1st.  This is our annual fundraiser for 2007.  Wear your favorite Racing Gear\, bring your friends.  Showcase your company\, group or organization.  Pole day qualifying ends at 6:00pm @ IMS.  We start at 6:30.  Yes\, we are looking for additional sponors.
LOCATION:Bill Estes 450 East Northfield Drive\, Brownsburg\, IN 46112
UID:e.2778.434
SEQUENCE:3
DTSTAMP:20260423T224933Z
URL:https://www.brownsburg.com/events/details/brownsburg-chamber-of-commerce-dinner-auctoin-race-05-12-2007-434
END:VEVENT

END:VCALENDAR
