BEGIN:VCALENDAR
VERSION:2.0
PRODID:-//ChamberMaster//Event Calendar 2.0//EN
METHOD:PUBLISH
X-PUBLISHED-TTL:P3D
REFRESH-INTERVAL:P3D
CALSCALE:GREGORIAN
BEGIN:VEVENT
DTSTART:20190717T150000Z
DTEND:20190717T170000Z
X-MICROSOFT-CDO-ALLDAYEVENT:FALSE
SUMMARY:Brownsburg Chamber of Commerce July Luncheon
DESCRIPTION:Brownsburg Chambers' Nonprofit Members Presentations\n\n\n\nJoin us this month as up to 10 members will give a talk about their organization and how they benefit Brownsburg and Hendricks County.\n\n\n\nLuncheon Cater: Rusted Silo BBQ and Brew House\n\n\n\nScheduled to Speak:\n\n\n\nHendricks County Senior Services - Helee Adkins\n\nHendricks County YMCA - Greg Kindle\n\nParks Foundation of Hendricks County - Meghan Stritar\n\nRock Steady Boxing Brownsburg - Angie Nelson\n\nSt. Malachy - Jennifer Zeunik\n\nWYRZ - Shane Ray
X-ALT-DESC;FMTTYPE=text/html:<br />\n<strong>Brownsburg Chambers&#39\; Nonprofit Members Presentations</strong><br />\n<br />\nJoin us this month as up to 10 members will give a talk about their organization and how they benefit Brownsburg and Hendricks County.<br />\n<br />\nLuncheon Cater: <strong>Rusted Silo BBQ and Brew House<br />\n<br />\n<u><em>Scheduled to Speak:</em></u><br />\n<br />\nHendricks County Senior Services </strong>- Helee Adkins<br />\n<strong>Hendricks County YMCA - </strong>Greg Kindle<br />\n<strong>Parks Foundation of Hendricks County</strong>&nbsp\;- Meghan Stritar<br />\n<strong>Rock Steady Boxing Brownsburg - </strong>Angie Nelson<br />\n<b>St. Malachy - </b>Jennifer Zeunik<br />\n<strong>WYRZ</strong> - Shane Ray
LOCATION:Brownsburg Fire Territory Facility 470 E Northfield Drive Brownsburg\, IN 46112
UID:e.2778.4501
SEQUENCE:3
DTSTAMP:20260422T200107Z
URL:https://www.brownsburg.com/events/details/brownsburg-chamber-of-commerce-july-luncheon-4501
END:VEVENT

END:VCALENDAR
