BEGIN:VCALENDAR
VERSION:2.0
PRODID:-//ChamberMaster//Event Calendar 2.0//EN
METHOD:PUBLISH
X-PUBLISHED-TTL:P3D
REFRESH-INTERVAL:P3D
CALSCALE:GREGORIAN
BEGIN:VEVENT
DTSTART:20080220T163000Z
DTEND:20080220T163000Z
X-MICROSOFT-CDO-ALLDAYEVENT:FALSE
SUMMARY:Brownsburg Chamber of Commerce Luncheon
DESCRIPTION:Guest speakers for this "State of the Town" meeting will be: Bill Guarnery\, President of the Brownsburg Town Council\; Jim Waggoner\, Brownsburg Town Manager\; Oran True\, Brownsburg Fire Chief\; and Steve Carroll\, Brownsburg Police Chief.
X-ALT-DESC;FMTTYPE=text/html:Guest speakers for this "State of the Town" meeting will be: Bill Guarnery\, President of the Brownsburg Town Council\; Jim Waggoner\, Brownsburg Town Manager\; Oran True\, Brownsburg Fire Chief\; and Steve Carroll\, Brownsburg Police Chief.
LOCATION:Fire Territory Building 470 E. Northfield Drive\, Brownsburg\, IN 46112 RSVP to bkremer@brownsburg.com or call 852-7885.
UID:e.2778.501
SEQUENCE:3
DTSTAMP:20260423T095419Z
URL:https://www.brownsburg.com/events/details/brownsburg-chamber-of-commerce-luncheon-02-20-2008-501
END:VEVENT

END:VCALENDAR
