BEGIN:VCALENDAR
VERSION:2.0
PRODID:-//ChamberMaster//Event Calendar 2.0//EN
METHOD:PUBLISH
X-PUBLISHED-TTL:P3D
REFRESH-INTERVAL:P3D
CALSCALE:GREGORIAN
BEGIN:VEVENT
DTSTART:20070418T153000Z
DTEND:20070418T153000Z
X-MICROSOFT-CDO-ALLDAYEVENT:FALSE
SUMMARY:Brownsburg Chamber of Commerce Luncheon
DESCRIPTION:Speakers are: Sheltering Wings/Fire Protection Territory/Scott Black
X-ALT-DESC;FMTTYPE=text/html:Speakers are: Sheltering Wings/Fire Protection Territory/Scott Black
LOCATION:470 E. Northfield Drive\, Brownsburg\, IN 46112
UID:e.2778.433
SEQUENCE:3
DTSTAMP:20260424T001440Z
URL:https://www.brownsburg.com/events/details/brownsburg-chamber-of-commerce-luncheon-04-18-2007-433
END:VEVENT

END:VCALENDAR
