BEGIN:VCALENDAR
VERSION:2.0
PRODID:-//ChamberMaster//Event Calendar 2.0//EN
METHOD:PUBLISH
X-PUBLISHED-TTL:P3D
REFRESH-INTERVAL:P3D
CALSCALE:GREGORIAN
BEGIN:VEVENT
DTSTART:20090722T151500Z
DTEND:20090722T151500Z
X-MICROSOFT-CDO-ALLDAYEVENT:FALSE
SUMMARY:Brownsburg Chamber of Commerce Luncheon
DESCRIPTION:
X-ALT-DESC;FMTTYPE=text/html:
LOCATION:Fire Territory Building 470 E. Northfield Dr.\, Brownsburg \, IN 46112 Fire Territory Building\, 470 East Norfield Dr. RSVP 852-7885 or chamber@brownsburg.com $10/member $15/nonmember
UID:e.2778.698
SEQUENCE:3
DTSTAMP:20260422T101217Z
URL:https://www.brownsburg.com/events/details/brownsburg-chamber-of-commerce-luncheon-07-22-2009-698
END:VEVENT

END:VCALENDAR
