BEGIN:VCALENDAR
VERSION:2.0
PRODID:-//ChamberMaster//Event Calendar 2.0//EN
METHOD:PUBLISH
X-PUBLISHED-TTL:P3D
REFRESH-INTERVAL:P3D
CALSCALE:GREGORIAN
BEGIN:VEVENT
DTSTART:20081015T153000Z
DTEND:20081015T153000Z
X-MICROSOFT-CDO-ALLDAYEVENT:FALSE
SUMMARY:Brownsburg Chamber of Commerce Luncheon
DESCRIPTION:
X-ALT-DESC;FMTTYPE=text/html:
LOCATION:Fire Territory Building 470 E. Northfield Street\, Brownsburg \, IN 46112
UID:e.2778.508
SEQUENCE:3
DTSTAMP:20260422T220750Z
URL:https://www.brownsburg.com/events/details/brownsburg-chamber-of-commerce-luncheon-10-15-2008-508
END:VEVENT

END:VCALENDAR
