BEGIN:VCALENDAR
VERSION:2.0
PRODID:-//ChamberMaster//Event Calendar 2.0//EN
METHOD:PUBLISH
X-PUBLISHED-TTL:P3D
REFRESH-INTERVAL:P3D
CALSCALE:GREGORIAN
BEGIN:VEVENT
DTSTART:20091202T161500Z
DTEND:20091202T161500Z
X-MICROSOFT-CDO-ALLDAYEVENT:FALSE
SUMMARY:Brownsburg Chamber of Commerce Luncheon
DESCRIPTION:http://www.youtube.com/watch?v=4UrgglvJqu0&feature=channel
X-ALT-DESC;FMTTYPE=text/html:\n\nhttp://www.youtube.com/watch?v=4UrgglvJqu0&feature=channel
LOCATION:BHS Senior Academy\, 1000 South Odell Street RSVP 852-7885 or chamber@brownsburg.com $10/member $15/nonmember
UID:e.2778.702
SEQUENCE:3
DTSTAMP:20260422T002444Z
URL:https://www.brownsburg.com/events/details/brownsburg-chamber-of-commerce-luncheon-12-02-2009-702
END:VEVENT

END:VCALENDAR
