BEGIN:VCALENDAR
VERSION:2.0
PRODID:-//ChamberMaster//Event Calendar 2.0//EN
METHOD:PUBLISH
X-PUBLISHED-TTL:P3D
REFRESH-INTERVAL:P3D
CALSCALE:GREGORIAN
BEGIN:VEVENT
DTSTART:20071017T143000Z
DTEND:20071017T143000Z
X-MICROSOFT-CDO-ALLDAYEVENT:FALSE
SUMMARY:Brownsburg Chamber of Commerce OCTOBER Luncheon
DESCRIPTION:
X-ALT-DESC;FMTTYPE=text/html:
LOCATION:Fire Territory Building\, Brownsburg\, IN 46112 Fire Territory Building 470 E. Northfield Drive Brownsburg\, IN 46112
UID:e.2778.460
SEQUENCE:3
DTSTAMP:20260423T153751Z
URL:https://www.brownsburg.com/events/details/brownsburg-chamber-of-commerce-october-luncheon-10-17-2007-460
END:VEVENT

END:VCALENDAR
