BEGIN:VCALENDAR
VERSION:2.0
PRODID:-//ChamberMaster//Event Calendar 2.0//EN
METHOD:PUBLISH
X-PUBLISHED-TTL:P3D
REFRESH-INTERVAL:P3D
CALSCALE:GREGORIAN
BEGIN:VEVENT
DTSTART:20051206T233000Z
DTEND:20051206T233000Z
X-MICROSOFT-CDO-ALLDAYEVENT:FALSE
SUMMARY:Brownsburg Community School Corporation - Community Forum
DESCRIPTION:As a stakeholder of the Brownsburg Community School Corporation\, you have a voice in its future and the quality of your schools.  Plan to attend the Community Forum to be informed and share your thoughts.
X-ALT-DESC;FMTTYPE=text/html:As a stakeholder of the Brownsburg Community School Corporation\, you have a voice in its future and the quality of your schools.  Plan to attend the Community Forum to be informed and share your thoughts.
LOCATION:444 East Tilden Drive\, Brownsburg\, IN 46112 Delaware Trail Elementary Gym\; 1800 S. Hornaday Road
UID:e.2778.50
SEQUENCE:3
DTSTAMP:20260424T235019Z
URL:https://www.brownsburg.com/events/details/brownsburg-community-school-corporation-community-forum-12-06-2005-50
END:VEVENT

END:VCALENDAR
