BEGIN:VCALENDAR
VERSION:2.0
PRODID:-//ChamberMaster//Event Calendar 2.0//EN
METHOD:PUBLISH
X-PUBLISHED-TTL:P3D
REFRESH-INTERVAL:P3D
CALSCALE:GREGORIAN
BEGIN:VEVENT
DTSTART:20060826T120000Z
DTEND:20060826T170000Z
X-MICROSOFT-CDO-ALLDAYEVENT:FALSE
SUMMARY:Brownsburg Curves Community Garage Sale to benefit the Bret Neylon Support Fund
DESCRIPTION:
X-ALT-DESC;FMTTYPE=text/html:
LOCATION:924 East Main Street\, Brownsburg\, IN 46112 924 E. Main St\; Brownsburg. All proceeds will be donated to the Bret Neylon Support Fund. Donations will be accepted at Curves on or after August 12th. Additionally join Curves between August 21st and August 25th and we will donate your paid Service Fee to the Bret Neylon Support Fund.
UID:e.2778.287
SEQUENCE:3
DTSTAMP:20260424T114428Z
URL:https://www.brownsburg.com/events/details/brownsburg-curves-community-garage-sale-to-benefit-the-bret-neylon-support-fund-08-26-2006-287
END:VEVENT

END:VCALENDAR
