BEGIN:VCALENDAR
VERSION:2.0
PRODID:-//ChamberMaster//Event Calendar 2.0//EN
METHOD:PUBLISH
X-PUBLISHED-TTL:P3D
REFRESH-INTERVAL:P3D
CALSCALE:GREGORIAN
BEGIN:VEVENT
DTSTART:20061028T140000Z
DTEND:20061028T180000Z
X-MICROSOFT-CDO-ALLDAYEVENT:FALSE
SUMMARY:Brownsburg Fire Territory Safety Day
DESCRIPTION:
X-ALT-DESC;FMTTYPE=text/html:
LOCATION:400 West Northfield Drive\, Brownsburg\, IN 46112 Saturday\, October 28\, 2006 at the Brownsburg Wal-mart from 10am to 2pm. There will be car extrication demonstrations\, activities for everyone\, car seat inspection information\, Avon Fire Department's Safety Trailer\, fire trucks\, food and fun. Donations are being accepted for the purchase of Brownsburg Fire Territory's Safety Trailer. Bring the family and enjoy a fun filled day.
UID:e.2778.359
SEQUENCE:3
DTSTAMP:20260424T083832Z
URL:https://www.brownsburg.com/events/details/brownsburg-fire-territory-safety-day-10-28-2006-359
END:VEVENT

END:VCALENDAR
