BEGIN:VCALENDAR
VERSION:2.0
PRODID:-//ChamberMaster//Event Calendar 2.0//EN
METHOD:PUBLISH
X-PUBLISHED-TTL:P3D
REFRESH-INTERVAL:P3D
CALSCALE:GREGORIAN
BEGIN:VEVENT
DTSTART:20060527T000000Z
DTEND:20060527T000000Z
X-MICROSOFT-CDO-ALLDAYEVENT:FALSE
SUMMARY:Brownsburg High School Commencement
DESCRIPTION:
X-ALT-DESC;FMTTYPE=text/html:
LOCATION:1000 South Odell\, Brownsburg\, IN 46112 at BHS\; 1000 South Odell. Congratulations Class of 2006!
UID:e.2778.205
SEQUENCE:3
DTSTAMP:20260424T160329Z
URL:https://www.brownsburg.com/events/details/brownsburg-high-school-commencement-05-26-2006-205
END:VEVENT

END:VCALENDAR
