BEGIN:VCALENDAR
VERSION:2.0
PRODID:-//ChamberMaster//Event Calendar 2.0//EN
METHOD:PUBLISH
X-PUBLISHED-TTL:P3D
REFRESH-INTERVAL:P3D
CALSCALE:GREGORIAN
BEGIN:VEVENT
DTSTART:20061116T230000Z
DTEND:20061116T230000Z
X-MICROSOFT-CDO-ALLDAYEVENT:FALSE
SUMMARY:Brownsburg High School Girls Soccer Awards Banquet
DESCRIPTION:The Brownsburg Girls Soccer Team is preparing for their Fall Awards Banquet.  The Team is looking to parents\, friends and the community for help.  Each year we hold a raffle as a fundraiser to sustain the budget that supports the team throughout the year.  We would be gracious for any donations that could make our Fall Awards Fundraiser a success.  Our girls have worked hard and their tremendous efforts on the field have resulted in a top ten state ranking.  Let's show our support for the team.  You can help in the following ways:\n\n•	Make a cash donation.  Donations will be added to our donor list and included in recognition opportunities.\n	Donations must be received by Friday\, October 27th.\n	Make checks payable to: Brownsburg High School w/letter instructing the Athletic Office to credit the soccer program.\n	Mail to:  Brownsburg High School\, Athletic Department\, Attn: Soccer Fundraiser \, 1000 S. Odell\, Bburg\, 46112\n	Or\, give to a committee member listed below.\n\n•	Provide a gift-in-kind donation.  Donations in the form of goods\, services\, etc. can be picked up by one of our committee members upon confirmation of such donation via email or by phone.  \n\n•	Appeal to local businesses on behalf of the soccer program.  Movie tickets\, gas cards\, restaurant coupons\, and soccer apparel\, etc. are some ideas.   Let's make use of all our resources and secure items for the raffle.  Remember that Brownsburg residents are patrons of the Avon businesses\, so let's not forget to offer them the opportunity to support. \n\n•	Volunteer.  Volunteers are needed in a variety of areas such as set up and decorations\, photo and video production\, food service and clean up.  Contact me if you are willing to help.  \n\nFundraising efforts need to be finalized no later than November 4th so please notify a committee member of your intention ASAP. Your generosity and support of our High School Girls Soccer Program is greatly appreciated.\n\nOnce again we thank you for any contribution you
X-ALT-DESC;FMTTYPE=text/html:The Brownsburg Girls Soccer Team is preparing for their Fall Awards Banquet.  The Team is looking to parents\, friends and the community for help.  Each year we hold a raffle as a fundraiser to sustain the budget that supports the team throughout the year.  We would be gracious for any donations that could make our Fall Awards Fundraiser a success.  Our girls have worked hard and their tremendous efforts on the field have resulted in a top ten state ranking.  Let's show our support for the team.  You can help in the following ways:\n\n•	Make a cash donation.  Donations will be added to our donor list and included in recognition opportunities.\n	Donations must be received by Friday\, October 27th.\n	Make checks payable to: Brownsburg High School w/letter instructing the Athletic Office to credit the soccer program.\n	Mail to:  Brownsburg High School\, Athletic Department\, Attn: Soccer Fundraiser \, 1000 S. Odell\, Bburg\, 46112\n	Or\, give to a committee member listed below.\n\n•	Provide a gift-in-kind donation.  Donations in the form of goods\, services\, etc. can be picked up by one of our committee members upon confirmation of such donation via email or by phone.  \n\n•	Appeal to local businesses on behalf of the soccer program.  Movie tickets\, gas cards\, restaurant coupons\, and soccer apparel\, etc. are some ideas.   Let's make use of all our resources and secure items for the raffle.  Remember that Brownsburg residents are patrons of the Avon businesses\, so let's not forget to offer them the opportunity to support. \n\n•	Volunteer.  Volunteers are needed in a variety of areas such as set up and decorations\, photo and video production\, food service and clean up.  Contact me if you are willing to help.  \n\nFundraising efforts need to be finalized no later than November 4th so please notify a committee member of your intention ASAP. Your generosity and support of our High School Girls Soccer Program is greatly appreciated.\n\nOnce again we thank you for any contribution you
LOCATION:1000 S. Odell\, Brownsburg\, IN 46112 The Brownsburg Girls Soccer Team is preparing for their Fall Awards Banquet. The Team is looking to parents\, friends and the community for help. Each year we hold a raffle as a fundraiser to sustain the budget that supports the team throughout the year. We would be gracious for any donations that could make our Fall Awards Fundraiser a success. Our girls have worked hard and their tremendous efforts on the field have resulted in a top ten state ranking. Let’s show our support for the team. You can help in the following ways: a cash donation\, a gift-in-king or volunteering for the event.
UID:e.2778.356
SEQUENCE:3
DTSTAMP:20260424T073529Z
URL:https://www.brownsburg.com/events/details/brownsburg-high-school-girls-soccer-awards-banquet-11-16-2006-356
END:VEVENT

END:VCALENDAR
