BEGIN:VCALENDAR
VERSION:2.0
PRODID:-//ChamberMaster//Event Calendar 2.0//EN
METHOD:PUBLISH
X-PUBLISHED-TTL:P3D
REFRESH-INTERVAL:P3D
CALSCALE:GREGORIAN
BEGIN:VEVENT
DTSTART:20060511T230000Z
DTEND:20060511T230000Z
X-MICROSOFT-CDO-ALLDAYEVENT:FALSE
SUMMARY:Brownsburg High School Senior Awards Night
DESCRIPTION:
X-ALT-DESC;FMTTYPE=text/html:
LOCATION:1000 South Odell\, Brownsburg\, IN 46112 at BHS\; 1000 S. Odell.
UID:e.2778.202
SEQUENCE:3
DTSTAMP:20260424T160514Z
URL:https://www.brownsburg.com/events/details/brownsburg-high-school-senior-awards-night-05-11-2006-202
END:VEVENT

END:VCALENDAR
