BEGIN:VCALENDAR
VERSION:2.0
PRODID:-//ChamberMaster//Event Calendar 2.0//EN
METHOD:PUBLISH
X-PUBLISHED-TTL:P3D
REFRESH-INTERVAL:P3D
CALSCALE:GREGORIAN
BEGIN:VEVENT
DTSTART:20080203T003000Z
DTEND:20080203T003000Z
X-MICROSOFT-CDO-ALLDAYEVENT:FALSE
SUMMARY:Brownsburg High School Theater presents - STONE SOUP
DESCRIPTION:
X-ALT-DESC;FMTTYPE=text/html:
LOCATION:One night only. Tickets available at the door. $5.00 for adults and $4.00 for students.
UID:e.2778.520
SEQUENCE:3
DTSTAMP:20260423T095553Z
URL:https://www.brownsburg.com/events/details/brownsburg-high-school-theater-presents-stone-soup-02-02-2008-520
END:VEVENT

END:VCALENDAR
