BEGIN:VCALENDAR
VERSION:2.0
PRODID:-//ChamberMaster//Event Calendar 2.0//EN
METHOD:PUBLISH
X-PUBLISHED-TTL:P3D
REFRESH-INTERVAL:P3D
CALSCALE:GREGORIAN
BEGIN:VEVENT
DTSTART:20061215T223000Z
DTEND:20061216T003000Z
X-MICROSOFT-CDO-ALLDAYEVENT:FALSE
SUMMARY:Brownsburg Kiwanis Dinner before the Big Game
DESCRIPTION:
X-ALT-DESC;FMTTYPE=text/html:
LOCATION:1000 S. Odell\, Brownsburg\, IN 46112 The Brownsburg Kiwanis Club will hold their annual Dinner before the Big Game on Friday December 15th. This will be prior to the Brownsburg Boys Basketball team facing off against Avon in the Varsity Fieldhouse. Dinner will be served from 5:30-7:30 p.m. at Brownsburg High School at a cost of $5 per person. Tickets can be purchased through all Kiwanis members or at the door. Guests should enter through the northwest doors of the High School. Everyone is invited to attend. Separate tickets will be needed for the game. For more information\, contact Vickie Rader at 317-858-2723.
UID:e.2778.396
SEQUENCE:3
DTSTAMP:20260424T054703Z
URL:https://www.brownsburg.com/events/details/brownsburg-kiwanis-dinner-before-the-big-game-12-15-2006-396
END:VEVENT

END:VCALENDAR
