BEGIN:VCALENDAR
VERSION:2.0
PRODID:-//ChamberMaster//Event Calendar 2.0//EN
METHOD:PUBLISH
X-PUBLISHED-TTL:P3D
REFRESH-INTERVAL:P3D
CALSCALE:GREGORIAN
BEGIN:VEVENT
DTSTART:20080201T223000Z
DTEND:20080201T223000Z
X-MICROSOFT-CDO-ALLDAYEVENT:FALSE
SUMMARY:Brownsburg Kiwanis ''Dinner Before the Game''
DESCRIPTION:
X-ALT-DESC;FMTTYPE=text/html:
LOCATION:Tickets are available at the door or from any Brownsburg Kiwanis member for $5.00. Dinner served from 5:30 to 7:30 at the Brownsburg Varsity Fieldhouse\, north end of the building through the NW doors.
UID:e.2778.517
SEQUENCE:3
DTSTAMP:20260423T095011Z
URL:https://www.brownsburg.com/events/details/brownsburg-kiwanis-dinner-before-the-game-02-01-2008-517
END:VEVENT

END:VCALENDAR
