BEGIN:VCALENDAR
VERSION:2.0
PRODID:-//ChamberMaster//Event Calendar 2.0//EN
METHOD:PUBLISH
X-PUBLISHED-TTL:P3D
REFRESH-INTERVAL:P3D
CALSCALE:GREGORIAN
BEGIN:VEVENT
DTSTART:20051217T120000Z
DTEND:20051217T143000Z
X-MICROSOFT-CDO-ALLDAYEVENT:FALSE
SUMMARY:Brownsburg Lion's Club All You Can Eat Breakfast
DESCRIPTION:Contact: Larry Timko  Phone: (317) 852-0273\nWeb Site: www.brownsburglionsclub.org
X-ALT-DESC;FMTTYPE=text/html:Contact: Larry Timko  Phone: (317) 852-0273\nWeb Site: www.brownsburglionsclub.org\n
LOCATION:9321 Church Road\, Brownsburg\, IN 46112 Lion's Club Building in Arbuckle Acres Park.
UID:e.2778.71
SEQUENCE:3
DTSTAMP:20260424T235158Z
URL:https://www.brownsburg.com/events/details/brownsburg-lion-s-club-all-you-can-eat-breakfast-12-17-2005-71
END:VEVENT

END:VCALENDAR
