BEGIN:VCALENDAR
VERSION:2.0
PRODID:-//ChamberMaster//Event Calendar 2.0//EN
METHOD:PUBLISH
X-PUBLISHED-TTL:P3D
REFRESH-INTERVAL:P3D
CALSCALE:GREGORIAN
BEGIN:VEVENT
DTSTART:20061007T113000Z
DTEND:20061007T153000Z
X-MICROSOFT-CDO-ALLDAYEVENT:FALSE
SUMMARY:Brownsburg Lion's Club Blood Drive
DESCRIPTION:The Brownsburg Lions Club will be sponsoring a blood drive on Saturday\, October 7th from 7:30am—11:30am at Arbuckle Park.  This drive is being held on the same morning as our monthly breakfast so donors can have a healthy meal before their donation. The breakfast runs from 7-9:30am. And as our way of saying ‘Thank You' for taking the time to donate\, the club will give each donor a coupon valid for one free breakfast meal in the future (a $6 value).
X-ALT-DESC;FMTTYPE=text/html:The Brownsburg Lions Club will be sponsoring a blood drive on Saturday\, October 7th from 7:30am—11:30am at Arbuckle Park.  This drive is being held on the same morning as our monthly breakfast so donors can have a healthy meal before their donation. The breakfast runs from 7-9:30am. And as our way of saying ‘Thank You' for taking the time to donate\, the club will give each donor a coupon valid for one free breakfast meal in the future (a $6 value).\n\n
LOCATION:200 N. Green St.\, Brownsburg\, IN 46112 at Arbuckle Park. This drive is being held on the same morning as our monthly breakfast so donors can have a healthy meal before their donation. The breakfast runs from 7-9:30am. And as our way of saying ‘Thank You’ for taking the time to donate\, the club will give each donor a coupon valid for one free breakfast meal in the future (a $6 value).
UID:e.2778.352
SEQUENCE:3
DTSTAMP:20260424T085351Z
URL:https://www.brownsburg.com/events/details/brownsburg-lion-s-club-blood-drive-10-07-2006-352
END:VEVENT

END:VCALENDAR
