BEGIN:VCALENDAR
VERSION:2.0
PRODID:-//ChamberMaster//Event Calendar 2.0//EN
METHOD:PUBLISH
X-PUBLISHED-TTL:P3D
REFRESH-INTERVAL:P3D
CALSCALE:GREGORIAN
BEGIN:VEVENT
DTSTART:20100629T220000Z
DTEND:20100705T030000Z
X-MICROSOFT-CDO-ALLDAYEVENT:FALSE
SUMMARY:Brownsburg Lion's Club July 4th Extravaganza
DESCRIPTION:The annual Brownsburg Lion's Club July 4th Extravaganza will begin June 29 and continue through July 4th\, 2010.\n\nThe carnival will be open daily from 6 PM to 11 PM.\n\nThe corn tent and Lion's Club kitchen will be open daily from 5 PM to 9 PM.\n\nBingo hours are:  Thurs & Fri\,  July 1 & 2 - 5:30 PM until 9:30 PM and  Sat & Sun\, July 3 & 4 - 5:00 PM until 10:00PM.\n\nThe parade will begin at 10:00 a.m. on Saturday\, July 3.  For more information on the festivities as well as the parade route\, please visit the Lion's Club website at www.brownsburglionsclub.org
X-ALT-DESC;FMTTYPE=text/html:The annual Brownsburg Lion's Club July 4th Extravaganza will begin June 29 and continue through July 4th\, 2010.\n\nThe carnival will be open daily from 6 PM to 11 PM.\n\nThe corn tent and Lion's Club kitchen will be open daily from 5 PM to 9 PM.\n\nBingo hours are:  Thurs & Fri\,  July 1 & 2 - 5:30 PM until 9:30 PM and  Sat & Sun\, July 3 & 4 - 5:00 PM until 10:00PM.\n\nThe parade will begin at 10:00 a.m. on Saturday\, July 3.  For more information on the festivities as well as the parade route\, please visit the Lion's Club website at www.brownsburglionsclub.org\n
LOCATION:Arbuckle Acres Park\, Brownsburg\, IN 46112
UID:e.2778.984
SEQUENCE:3
DTSTAMP:20260421T132210Z
URL:https://www.brownsburg.com/events/details/brownsburg-lion-s-club-july-4th-extravaganza-06-29-2010-984
END:VEVENT

END:VCALENDAR
