BEGIN:VCALENDAR
VERSION:2.0
PRODID:-//ChamberMaster//Event Calendar 2.0//EN
METHOD:PUBLISH
X-PUBLISHED-TTL:P3D
REFRESH-INTERVAL:P3D
CALSCALE:GREGORIAN
BEGIN:VEVENT
DTSTART:20071215T120000Z
DTEND:20071215T143000Z
X-MICROSOFT-CDO-ALLDAYEVENT:FALSE
SUMMARY:Brownsburg Lions Club Breakfast
DESCRIPTION:
X-ALT-DESC;FMTTYPE=text/html:
LOCATION:Bundy Lodge Arbuckle Acres Park\, Brownsburg\, IN 46112
UID:e.2778.495
SEQUENCE:3
DTSTAMP:20260423T121545Z
URL:https://www.brownsburg.com/events/details/brownsburg-lions-club-breakfast-12-15-2007-495
END:VEVENT

END:VCALENDAR
