BEGIN:VCALENDAR
VERSION:2.0
PRODID:-//ChamberMaster//Event Calendar 2.0//EN
METHOD:PUBLISH
X-PUBLISHED-TTL:P3D
REFRESH-INTERVAL:P3D
CALSCALE:GREGORIAN
BEGIN:VEVENT
DTSTART:20071117T120000Z
DTEND:20071117T120000Z
X-MICROSOFT-CDO-ALLDAYEVENT:FALSE
SUMMARY:Brownsburg Lions Club Breakfast at Bundy Lodge
DESCRIPTION:Breakfast with the Lions at Bundy Lodge!\nAll you can eat for $6.00.  Visit our web-site at  www.brownsburglionsclub.org \n\nNovember 18\, 2006	7:00 AM	Breakfast at Bundy Lodge\nDecember 16\, 2006	7:00 AM	Breakfast at Bundy Lodge\nJanuary 20\, 2007	7:00 AM	Breakfast at Bundy Lodge\nFebruary 17\, 2007	7:00 AM	Breakfast at Bundy Lodge\nMarch 17\, 2007	7:00 AM	Breakfast at Bundy Lodge\nApril 21\, 2007	7:00 AM	Breakfast at Bundy Lodge\nSeptember 15\, 2007	7:00 AM	Breakfast at Bundy Lodge\nOctober 6\, 2007	7:00 AM	Breakfast at Bundy Lodge\nNovember 17\, 2007	7:00 AM	Breakfast at Bundy Lodge\nDecember 15\, 2007	7:00 AM	Breakfast at Bundy Lodge\n\nBreakfast starts at 7:00 AM on Saturdays during the Fall and Winter months.  \nThe first person visitors wee when they enter Bundy Lodge on a cold winter's day is the cashier Bob Leap\, who has performed this function for many years.  Bob will take your order\, collect $6.00 and direct you to a seat at one of the long tables in the clubhouse.  Ordering is simple.  Anything\, or everything on the menu is just $6.00 per person.  When you are finished with the first round\, seconds are on the house.\n\n \n \nSince everything is cooked to order\, it may take a few minutes for your breakfast to arrive\, but you will not regret the time spent talking with your friends and neighbors\, or one of the Lions that will be around to answer questions\, tell a funny story\, or let you know about the next project we have in mind for Brownsburg.  Service is by the numbers\, and it always comes with a smile.\n\nGravy and hash-brown potatoes are cooked on the spot. Fried\, scrambled\, or made into an omelet\, the eggs are always delicious.  It's a lot of work\, but lots of fun too. 	 \nBreakfast customers really enjoy themselves.	 \nWhen the last customer has been served\, it's time for cleaning the floor\, stacking the dishes\, washing the silverware\, and doing all the other things associated with a first class eatery.  If you see one of us\, smile and say\, Hello!  \n\nWe
X-ALT-DESC;FMTTYPE=text/html:Breakfast with the Lions at Bundy Lodge!\nAll you can eat for $6.00.  Visit our web-site at  www.brownsburglionsclub.org \n\nNovember 18\, 2006	7:00 AM	Breakfast at Bundy Lodge\nDecember 16\, 2006	7:00 AM	Breakfast at Bundy Lodge\nJanuary 20\, 2007	7:00 AM	Breakfast at Bundy Lodge\nFebruary 17\, 2007	7:00 AM	Breakfast at Bundy Lodge\nMarch 17\, 2007	7:00 AM	Breakfast at Bundy Lodge\nApril 21\, 2007	7:00 AM	Breakfast at Bundy Lodge\nSeptember 15\, 2007	7:00 AM	Breakfast at Bundy Lodge\nOctober 6\, 2007	7:00 AM	Breakfast at Bundy Lodge\nNovember 17\, 2007	7:00 AM	Breakfast at Bundy Lodge\nDecember 15\, 2007	7:00 AM	Breakfast at Bundy Lodge\n\nBreakfast starts at 7:00 AM on Saturdays during the Fall and Winter months.  \nThe first person visitors wee when they enter Bundy Lodge on a cold winter's day is the cashier Bob Leap\, who has performed this function for many years.  Bob will take your order\, collect $6.00 and direct you to a seat at one of the long tables in the clubhouse.  Ordering is simple.  Anything\, or everything on the menu is just $6.00 per person.  When you are finished with the first round\, seconds are on the house.\n\n \n \nSince everything is cooked to order\, it may take a few minutes for your breakfast to arrive\, but you will not regret the time spent talking with your friends and neighbors\, or one of the Lions that will be around to answer questions\, tell a funny story\, or let you know about the next project we have in mind for Brownsburg.  Service is by the numbers\, and it always comes with a smile.\n\nGravy and hash-brown potatoes are cooked on the spot. Fried\, scrambled\, or made into an omelet\, the eggs are always delicious.  It's a lot of work\, but lots of fun too. 	 \nBreakfast customers really enjoy themselves.	 \nWhen the last customer has been served\, it's time for cleaning the floor\, stacking the dishes\, washing the silverware\, and doing all the other things associated with a first class eatery.  If you see one of us\, smile and say\, Hello!  \n\nWe
LOCATION:200 N. Green Street\, Brownsburg\, IN 46112 At Arbuckle Acres Park (entrance at 200 N. Green Street). All you can eat for $6 per person. Cooked fresh on the spot!
UID:e.2778.380
SEQUENCE:3
DTSTAMP:20260423T135030Z
URL:https://www.brownsburg.com/events/details/brownsburg-lions-club-breakfast-at-bundy-lodge-11-17-2007-380
END:VEVENT

END:VCALENDAR
