BEGIN:VCALENDAR
VERSION:2.0
PRODID:-//ChamberMaster//Event Calendar 2.0//EN
METHOD:PUBLISH
X-PUBLISHED-TTL:P3D
REFRESH-INTERVAL:P3D
CALSCALE:GREGORIAN
BEGIN:VEVENT
DTSTART:20080315T110000Z
DTEND:20080315T133000Z
X-MICROSOFT-CDO-ALLDAYEVENT:FALSE
SUMMARY:Brownsburg Lions Club Community Breakfast
DESCRIPTION:All you can eat for $6 per person.  Cooked fresh on the spot!  Bring an eyeglass donation to receive .50 off!
X-ALT-DESC;FMTTYPE=text/html: All you can eat for $6 per person.  Cooked fresh on the spot!  Bring an eyeglass donation to receive .50 off!
LOCATION:Located at Arbuckle Acres Park (entrance at 200 N. Green Street).
UID:e.2778.513
SEQUENCE:3
DTSTAMP:20260423T082953Z
URL:https://www.brownsburg.com/events/details/brownsburg-lions-club-community-breakfast-03-15-2008-513
END:VEVENT

END:VCALENDAR
