BEGIN:VCALENDAR
VERSION:2.0
PRODID:-//ChamberMaster//Event Calendar 2.0//EN
METHOD:PUBLISH
X-PUBLISHED-TTL:P3D
REFRESH-INTERVAL:P3D
CALSCALE:GREGORIAN
BEGIN:VEVENT
DTSTART:20080419T110000Z
DTEND:20080419T133000Z
X-MICROSOFT-CDO-ALLDAYEVENT:FALSE
SUMMARY:Brownsburg Lions Club Community Breakfast
DESCRIPTION:All you can eat for $6 per person.  Cooked fresh on the spot!  Bring an eyeglass donation to receive .50 off!
X-ALT-DESC;FMTTYPE=text/html: All you can eat for $6 per person.  Cooked fresh on the spot!  Bring an eyeglass donation to receive .50 off!
LOCATION:Located at Arbuckle Acres Park (entrance at 200 N. Green Street).
UID:e.2778.514
SEQUENCE:3
DTSTAMP:20260423T070448Z
URL:https://www.brownsburg.com/events/details/brownsburg-lions-club-community-breakfast-04-19-2008-514
END:VEVENT

END:VCALENDAR
