BEGIN:VCALENDAR
VERSION:2.0
PRODID:-//ChamberMaster//Event Calendar 2.0//EN
METHOD:PUBLISH
X-PUBLISHED-TTL:P3D
REFRESH-INTERVAL:P3D
CALSCALE:GREGORIAN
BEGIN:VEVENT
DTSTART:20081108T140000Z
DTEND:20081108T190000Z
X-MICROSOFT-CDO-ALLDAYEVENT:FALSE
SUMMARY:Brownsburg Lions Club Open House
DESCRIPTION:Representatives from: Premier Jewelry\, Tupperware\, Tastefully Simple\, Longaberger Baskets\, Mary Kay Cosmetics\, Pampered Chef\, Beauty Control and Creative Memories
X-ALT-DESC;FMTTYPE=text/html:Representatives from: Premier Jewelry\, Tupperware\, Tastefully Simple\, Longaberger Baskets\, Mary Kay Cosmetics\, Pampered Chef\, Beauty Control and Creative Memories\n
LOCATION:Lions building\, Arbuckle Acres Park Come shop early for Christmas! For information\, contact Pat at 852-5451 or bchastain@comcast. net
UID:e.2778.622
SEQUENCE:3
DTSTAMP:20260422T220222Z
URL:https://www.brownsburg.com/events/details/brownsburg-lions-club-open-house-11-08-2008-622
END:VEVENT

END:VCALENDAR
