BEGIN:VCALENDAR
VERSION:2.0
PRODID:-//ChamberMaster//Event Calendar 2.0//EN
METHOD:PUBLISH
X-PUBLISHED-TTL:P3D
REFRESH-INTERVAL:P3D
CALSCALE:GREGORIAN
BEGIN:VEVENT
DTSTART:20080415T153000Z
DTEND:20080415T171500Z
X-MICROSOFT-CDO-ALLDAYEVENT:FALSE
SUMMARY:Brownsburg Meadows Hosting A Tenderloin Basket Lunch
DESCRIPTION:
X-ALT-DESC;FMTTYPE=text/html:
LOCATION:2 E. Tilden Drive\, Brownsburg\, IN 46112 Cost is only 5.00 per lunch benefitting the Alzheimer's Association.
UID:e.2778.537
SEQUENCE:3
DTSTAMP:20260423T082818Z
URL:https://www.brownsburg.com/events/details/brownsburg-meadows-hosting-a-tenderloin-basket-lunch-04-15-2008-537
END:VEVENT

END:VCALENDAR
