BEGIN:VCALENDAR
VERSION:2.0
PRODID:-//ChamberMaster//Event Calendar 2.0//EN
METHOD:PUBLISH
X-PUBLISHED-TTL:P3D
REFRESH-INTERVAL:P3D
CALSCALE:GREGORIAN
BEGIN:VEVENT
DTSTART:20070906T150000Z
DTEND:20070906T170000Z
X-MICROSOFT-CDO-ALLDAYEVENT:FALSE
SUMMARY:Brownsburg Meadows/Moving Forward
DESCRIPTION:
X-ALT-DESC;FMTTYPE=text/html:
LOCATION:2 E. Tilden Drive\, Brownsburg\, IN 46112 Door Prizes(COLTS TICKETS)
UID:e.2778.485
SEQUENCE:3
DTSTAMP:20260423T182311Z
URL:https://www.brownsburg.com/events/details/brownsburg-meadows-moving-forward-09-06-2007-485
END:VEVENT

END:VCALENDAR
