BEGIN:VCALENDAR
VERSION:2.0
PRODID:-//ChamberMaster//Event Calendar 2.0//EN
METHOD:PUBLISH
X-PUBLISHED-TTL:P3D
REFRESH-INTERVAL:P3D
CALSCALE:GREGORIAN
BEGIN:VEVENT
DTSTART:20070315T170000Z
DTEND:20070315T200000Z
X-MICROSOFT-CDO-ALLDAYEVENT:FALSE
SUMMARY:Brownsburg Meadows Ribbon Cutting
DESCRIPTION:
X-ALT-DESC;FMTTYPE=text/html:
LOCATION:2 E. Tilden Drive\, Brownsburg\, IN 46112 2 E. Tilden Drive Brownsburg\, IN 46112
UID:e.2778.402
SEQUENCE:3
DTSTAMP:20260424T013329Z
URL:https://www.brownsburg.com/events/details/brownsburg-meadows-ribbon-cutting-03-15-2007-402
END:VEVENT

END:VCALENDAR
