BEGIN:VCALENDAR
VERSION:2.0
PRODID:-//ChamberMaster//Event Calendar 2.0//EN
METHOD:PUBLISH
X-PUBLISHED-TTL:P3D
REFRESH-INTERVAL:P3D
CALSCALE:GREGORIAN
BEGIN:VEVENT
DTSTART:20061125T150000Z
DTEND:20061125T150000Z
X-MICROSOFT-CDO-ALLDAYEVENT:FALSE
SUMMARY:Brownsburg Municipal Complex Grand Opening
DESCRIPTION:
X-ALT-DESC;FMTTYPE=text/html:
LOCATION:61 N. Green Street\, Brownsburg\, IN 46112 61 N. Green Street. The community is invited to this dedication ceremony and open house of the new Municipal Complex.
UID:e.2778.394
SEQUENCE:3
DTSTAMP:20260424T072013Z
URL:https://www.brownsburg.com/events/details/brownsburg-municipal-complex-grand-opening-11-25-2006-394
END:VEVENT

END:VCALENDAR
