BEGIN:VCALENDAR
VERSION:2.0
PRODID:-//ChamberMaster//Event Calendar 2.0//EN
METHOD:PUBLISH
X-PUBLISHED-TTL:P3D
REFRESH-INTERVAL:P3D
CALSCALE:GREGORIAN
BEGIN:VEVENT
DTSTART:20060704T110000Z
DTEND:20060704T140000Z
X-MICROSOFT-CDO-ALLDAYEVENT:FALSE
SUMMARY:Brownsburg Optimist's Pancakes before the Parade Breakfast
DESCRIPTION:
X-ALT-DESC;FMTTYPE=text/html:
LOCATION:340 Stadium Drive\, Brownsburg\, IN 46112 at Brown Elementary\; 340 Stadium Drive. All-you-can-eat breakfast. Adults $5\, Kids under 12 $3. Proceeds benefit their youth community programs. Call 272-5151 for more information
UID:e.2778.255
SEQUENCE:3
DTSTAMP:20260424T142445Z
URL:https://www.brownsburg.com/events/details/brownsburg-optimist-s-pancakes-before-the-parade-breakfast-07-04-2006-255
END:VEVENT

END:VCALENDAR
