BEGIN:VCALENDAR
VERSION:2.0
PRODID:-//ChamberMaster//Event Calendar 2.0//EN
METHOD:PUBLISH
X-PUBLISHED-TTL:P3D
REFRESH-INTERVAL:P3D
CALSCALE:GREGORIAN
BEGIN:VEVENT
DTSTART:20070216T000000Z
DTEND:20070216T000000Z
X-MICROSOFT-CDO-ALLDAYEVENT:FALSE
SUMMARY:Brownsburg Parks Board Meeting
DESCRIPTION:
X-ALT-DESC;FMTTYPE=text/html:
LOCATION:
UID:e.2778.413
SEQUENCE:3
DTSTAMP:20260424T043113Z
URL:https://www.brownsburg.com/events/details/brownsburg-parks-board-meeting-02-15-2007-413
END:VEVENT

END:VCALENDAR
