BEGIN:VCALENDAR
VERSION:2.0
PRODID:-//ChamberMaster//Event Calendar 2.0//EN
METHOD:PUBLISH
X-PUBLISHED-TTL:P3D
REFRESH-INTERVAL:P3D
CALSCALE:GREGORIAN
BEGIN:VEVENT
DTSTART:20060801T230000Z
DTEND:20060802T010000Z
X-MICROSOFT-CDO-ALLDAYEVENT:FALSE
SUMMARY:Brownsburg Parks Free Summer Concert Series--Old School
DESCRIPTION:This summer\, the Brownsburg Parks and Recreation Department will once again be hosting the 2006 Summer Concert Series.  Brownsburg residents are encouraged to bring their families out and enjoy this wonderful event.  There is no charge to attend.\n\nThe 2006 Summer Concert Series will take place at Arbuckle Park from 7:00 to 9:00 p.m. on the following dates:  Tuesday\, July 18\, 2006--Big Daddy Caddy\, Tuesday\, July 25\, 2006--Dave and Rae and Tuesday\, August 1\, 2006--Old School.  \n\nThe Brownsburg Parks & Recreation Department provides a variety of opportunities for residents and visitors to the community to enjoy the natural beauty of Hendricks County.  Visit one of our five major parks or participate in one of our many programs this summer\, fall\, winter or spring.
X-ALT-DESC;FMTTYPE=text/html:This summer\, the Brownsburg Parks and Recreation Department will once again be hosting the 2006 Summer Concert Series.  Brownsburg residents are encouraged to bring their families out and enjoy this wonderful event.  There is no charge to attend.\n\nThe 2006 Summer Concert Series will take place at Arbuckle Park from 7:00 to 9:00 p.m. on the following dates:  Tuesday\, July 18\, 2006--Big Daddy Caddy\, Tuesday\, July 25\, 2006--Dave and Rae and Tuesday\, August 1\, 2006--Old School.  \n\nThe Brownsburg Parks & Recreation Department provides a variety of opportunities for residents and visitors to the community to enjoy the natural beauty of Hendricks County.  Visit one of our five major parks or participate in one of our many programs this summer\, fall\, winter or spring. 
LOCATION:200 N. Green Street\, Brownsburg\, IN 46112 at Arbuckle Acres Park\; 200 N. Green. This summer\, the Brownsburg Parks and Recreation Department will once again be hosting the 2006 Summer Concert Series. Brownsburg residents are encouraged to bring their families out and enjoy this wonderful event. There is no charge to attend.
UID:e.2778.280
SEQUENCE:3
DTSTAMP:20260424T114231Z
URL:https://www.brownsburg.com/events/details/brownsburg-parks-free-summer-concert-series-old-school-08-01-2006-280
END:VEVENT

END:VCALENDAR
