BEGIN:VCALENDAR
VERSION:2.0
PRODID:-//ChamberMaster//Event Calendar 2.0//EN
METHOD:PUBLISH
X-PUBLISHED-TTL:P3D
REFRESH-INTERVAL:P3D
CALSCALE:GREGORIAN
BEGIN:VEVENT
DTSTART:20070123T000000Z
DTEND:20070123T000000Z
X-MICROSOFT-CDO-ALLDAYEVENT:FALSE
SUMMARY:Brownsburg Plan Commission Meeting
DESCRIPTION:
X-ALT-DESC;FMTTYPE=text/html:
LOCATION:
UID:e.2778.387
SEQUENCE:3
DTSTAMP:20260424T054439Z
URL:https://www.brownsburg.com/events/details/brownsburg-plan-commission-meeting-01-22-2007-387
END:VEVENT

END:VCALENDAR
