BEGIN:VCALENDAR
VERSION:2.0
PRODID:-//ChamberMaster//Event Calendar 2.0//EN
METHOD:PUBLISH
X-PUBLISHED-TTL:P3D
REFRESH-INTERVAL:P3D
CALSCALE:GREGORIAN
BEGIN:VEVENT
DTSTART:20060718T233000Z
DTEND:20060718T233000Z
X-MICROSOFT-CDO-ALLDAYEVENT:FALSE
SUMMARY:Brownsburg Public Library Summer Movie at Pavilion Cinemas--Pagemaster
DESCRIPTION:Come watch The Pagemaster starring Macullay Culkin with the Brownsburg Public Library on July 18th at Pavilion Cinemas.  More information is available at the library.  Tickets are $2 each and available for purchase only through the library.
X-ALT-DESC;FMTTYPE=text/html:Come watch The Pagemaster starring Macullay Culkin with the Brownsburg Public Library on July 18th at Pavilion Cinemas.  More information is available at the library.  Tickets are $2 each and available for purchase only through the library.
LOCATION:1555 N. Green Street\, Brownsburg\, IN 46112 at 1555 N. Green St.\, Tickets are $2.00 each and can be purchased at the Brownsburg Library. All proceeds benefit future library programs.
UID:e.2778.274
SEQUENCE:3
DTSTAMP:20260424T125834Z
URL:https://www.brownsburg.com/events/details/brownsburg-public-library-summer-movie-at-pavilion-cinemas-pagemaster-07-18-2006-274
END:VEVENT

END:VCALENDAR
