BEGIN:VCALENDAR
VERSION:2.0
PRODID:-//ChamberMaster//Event Calendar 2.0//EN
METHOD:PUBLISH
X-PUBLISHED-TTL:P3D
REFRESH-INTERVAL:P3D
CALSCALE:GREGORIAN
BEGIN:VEVENT
DTSTART:20060606T230000Z
DTEND:20060606T230000Z
X-MICROSOFT-CDO-ALLDAYEVENT:FALSE
SUMMARY:Brownsburg Redevelopment Commission Meeting
DESCRIPTION:AGENDA\n\n1.	CALL TO ORDER\, PRESIDING OFFICERS\n\n2.	ROLL CALL AND APPROVAL OF COMMISSION MINUTES FROM MAY 3\, 2006\n\n3.	OLD BUSINESS:\n\n	A.  WEST NORTHFIELD DRIVE IMPROVEMENTS\n		\n(i)  Review numbers/amend TIF district\n(ii) Response from RTF for Northfield Commons\n\n	B. BUSINESS INCUBATOR\n\n	C.  UPDATE ON 56TH STREET\n\n  4.  NEW BUSINESS: NONE\n\n5. ADJOURNMENT
X-ALT-DESC;FMTTYPE=text/html:AGENDA\n\n1.	CALL TO ORDER\, PRESIDING OFFICERS\n\n2.	ROLL CALL AND APPROVAL OF COMMISSION MINUTES FROM MAY 3\, 2006\n\n3.	OLD BUSINESS:\n\n	A.  WEST NORTHFIELD DRIVE IMPROVEMENTS\n		\n(i)  Review numbers/amend TIF district\n(ii) Response from RTF for Northfield Commons\n\n	B. BUSINESS INCUBATOR\n\n	C.  UPDATE ON 56TH STREET\n\n  4.  NEW BUSINESS: NONE\n\n5. ADJOURNMENT\n
LOCATION:470 E. Northfield Dr.\, Brownsburg\, IN 46112 at the Fire Territory Bldg\; 470 E. Northfield Drive.
UID:e.2778.256
SEQUENCE:3
DTSTAMP:20260424T142154Z
URL:https://www.brownsburg.com/events/details/brownsburg-redevelopment-commission-meeting-06-06-2006-256
END:VEVENT

END:VCALENDAR
