BEGIN:VCALENDAR
VERSION:2.0
PRODID:-//ChamberMaster//Event Calendar 2.0//EN
METHOD:PUBLISH
X-PUBLISHED-TTL:P3D
REFRESH-INTERVAL:P3D
CALSCALE:GREGORIAN
BEGIN:VEVENT
DTSTART:20060828T233000Z
DTEND:20060828T233000Z
X-MICROSOFT-CDO-ALLDAYEVENT:FALSE
SUMMARY:Brownsburg School Board Meeting & Update #2 on Elementary #6 & HS Addition
DESCRIPTION:
X-ALT-DESC;FMTTYPE=text/html:
LOCATION:444 East Tilden Drive\, Brownsburg\, IN 46112 F.L. O'Neal Administration Center\; 444 E. Tilden Dr.
UID:e.2778.310
SEQUENCE:3
DTSTAMP:20260424T113842Z
URL:https://www.brownsburg.com/events/details/brownsburg-school-board-meeting-update-2-on-elementary-6-hs-addition-08-28-2006-310
END:VEVENT

END:VCALENDAR
