BEGIN:VCALENDAR
VERSION:2.0
PRODID:-//ChamberMaster//Event Calendar 2.0//EN
METHOD:PUBLISH
X-PUBLISHED-TTL:P3D
REFRESH-INTERVAL:P3D
CALSCALE:GREGORIAN
BEGIN:VEVENT
DTSTART:20060814T233000Z
DTEND:20060814T233000Z
X-MICROSOFT-CDO-ALLDAYEVENT:FALSE
SUMMARY:Brownsburg School Board Meeting & Update on Elementary #6
DESCRIPTION:
X-ALT-DESC;FMTTYPE=text/html:
LOCATION:444 East Tilden Drive\, Brownsburg\, IN 46112 F.L. O'Neal Administration Center\; 444 E. Tilden Dr.
UID:e.2778.309
SEQUENCE:3
DTSTAMP:20260424T113827Z
URL:https://www.brownsburg.com/events/details/brownsburg-school-board-meeting-update-on-elementary-6-08-14-2006-309
END:VEVENT

END:VCALENDAR
