BEGIN:VCALENDAR
VERSION:2.0
PRODID:-//ChamberMaster//Event Calendar 2.0//EN
METHOD:PUBLISH
X-PUBLISHED-TTL:P3D
REFRESH-INTERVAL:P3D
CALSCALE:GREGORIAN
BEGIN:VEVENT
DTSTART:20060805T120000Z
DTEND:20060805T150000Z
X-MICROSOFT-CDO-ALLDAYEVENT:FALSE
SUMMARY:Brownsburg School Corporation Surplus Sale
DESCRIPTION:The Brownsburg Education Foundation will host a cash and carry sale of used computers and other items declared as surplus by the Brownsburg Community School Corporation. Proceeds from the sale will benefit the Foundation's programs\, providing funds for teacher grants\, student scholarships\, and funds for non-budgeted school needs.\n\nPatrons may purchase a complete computer package\, including hard drive\, keyboard\, monitor and mouse for $50. This is an excellent opportunity for families to buy a reasonably-priced computer for homework or other tasks.\nThey can be set up during the sale for viewing and/or testing.\n\nAll items\, including student chairs\, a bandsaw\, lockers\, printing presses as well as the computers\, are offered ''as is'' and are available on a first come\, first served basis. Terms of the sale are cash only (sorry\, no checks or credit cards)\, and all items must be removed the day of the sale. Neither delivery nor storage of items is available.
X-ALT-DESC;FMTTYPE=text/html:The Brownsburg Education Foundation will host a cash and carry sale of used computers and other items declared as surplus by the Brownsburg Community School Corporation. Proceeds from the sale will benefit the Foundation's programs\, providing funds for teacher grants\, student scholarships\, and funds for non-budgeted school needs.\n\nPatrons may purchase a complete computer package\, including hard drive\, keyboard\, monitor and mouse for $50. This is an excellent opportunity for families to buy a reasonably-priced computer for homework or other tasks.\nThey can be set up during the sale for viewing and/or testing.\n\nAll items\, including student chairs\, a bandsaw\, lockers\, printing presses as well as the computers\, are offered ''as is'' and are available on a first come\, first served basis. Terms of the sale are cash only (sorry\, no checks or credit cards)\, and all items must be removed the day of the sale. Neither delivery nor storage of items is available.\n
LOCATION:725 South Green Street\, Brownsburg\, IN 46112 Harris Education Center\; 725 South Green St. The Brownsburg Education Foundation will host a cash and carry sale of used computers and other items declared as surplus by the Brownsburg Community School Corporation. Proceeds from the sale will benefit the Foundation’s programs\, providing funds for teacher grants\, student scholarships\, and funds for non-budgeted school needs.
UID:e.2778.283
SEQUENCE:3
DTSTAMP:20260424T114224Z
URL:https://www.brownsburg.com/events/details/brownsburg-school-corporation-surplus-sale-08-05-2006-283
END:VEVENT

END:VCALENDAR
