BEGIN:VCALENDAR
VERSION:2.0
PRODID:-//ChamberMaster//Event Calendar 2.0//EN
METHOD:PUBLISH
X-PUBLISHED-TTL:P3D
REFRESH-INTERVAL:P3D
CALSCALE:GREGORIAN
BEGIN:VEVENT
DTSTART:20060220T220000Z
DTEND:20060221T010000Z
X-MICROSOFT-CDO-ALLDAYEVENT:FALSE
SUMMARY:Brownsburg Town Council Candidate Meet and Greet
DESCRIPTION:At My Favorite Cigar   36 East Main Street.  Join us at the store to meet candidates Lisa Freestone and Chad Anspach. They will do brief presentations at 8PM also. Come discuss the future of Brownsburg!
X-ALT-DESC;FMTTYPE=text/html:At My Favorite Cigar & Bar\; 36 East Main Street.  Join us at the store to meet candidates Lisa Freestone and Chad Anspach. They will do brief presentations at 8PM also. Come discuss the future of Brownsburg! 
LOCATION:36 East Main Street\, Brownsburg\, IN 46112 At My Favorite Cigar 36 East Main Street. Join us at the store to meet candidates Lisa Freestone and Chad Anspach. They will do brief presentations at 8PM also. Come discuss the future of Brownsburg!
UID:e.2778.97
SEQUENCE:3
DTSTAMP:20260424T221948Z
URL:https://www.brownsburg.com/events/details/brownsburg-town-council-candidate-meet-and-greet-02-20-2006-97
END:VEVENT

END:VCALENDAR
