BEGIN:VCALENDAR
VERSION:2.0
PRODID:-//ChamberMaster//Event Calendar 2.0//EN
METHOD:PUBLISH
X-PUBLISHED-TTL:P3D
REFRESH-INTERVAL:P3D
CALSCALE:GREGORIAN
BEGIN:VEVENT
DTSTART:20070417T230000Z
DTEND:20070417T230000Z
X-MICROSOFT-CDO-ALLDAYEVENT:FALSE
SUMMARY:Brownsburg Town Council Candidates
DESCRIPTION:
X-ALT-DESC;FMTTYPE=text/html:
LOCATION:Fire Territory Building\, Brownsburg\, IN 46112
UID:e.2778.438
SEQUENCE:3
DTSTAMP:20260424T001353Z
URL:https://www.brownsburg.com/events/details/brownsburg-town-council-candidates-04-17-2007-438
END:VEVENT

END:VCALENDAR
