BEGIN:VCALENDAR
VERSION:2.0
PRODID:-//ChamberMaster//Event Calendar 2.0//EN
METHOD:PUBLISH
X-PUBLISHED-TTL:P3D
REFRESH-INTERVAL:P3D
CALSCALE:GREGORIAN
BEGIN:VEVENT
DTSTART:20060511T230000Z
DTEND:20060511T230000Z
X-MICROSOFT-CDO-ALLDAYEVENT:FALSE
SUMMARY:Brownsburg Town Council Meeting
DESCRIPTION:
X-ALT-DESC;FMTTYPE=text/html:
LOCATION:470 East Northfield Drive\, Brownsburg\, IN 46112 at Brownsburg Fire Territory Bldg\; 470 E. Northfield Drive.
UID:e.2778.209
SEQUENCE:3
DTSTAMP:20260424T160640Z
URL:https://www.brownsburg.com/events/details/brownsburg-town-council-meeting-05-11-2006-209
END:VEVENT

END:VCALENDAR
